BEGIN:VCALENDAR
VERSION:2.0
PRODID:-//Eventos Guau - ECPv6.15.17.1//NONSGML v1.0//EN
CALSCALE:GREGORIAN
METHOD:PUBLISH
X-ORIGINAL-URL:https://eventosguau.es
X-WR-CALDESC:Eventos para Eventos Guau
REFRESH-INTERVAL;VALUE=DURATION:PT1H
X-Robots-Tag:noindex
X-PUBLISHED-TTL:PT1H
BEGIN:VTIMEZONE
TZID:Europe/Madrid
BEGIN:DAYLIGHT
TZOFFSETFROM:+0100
TZOFFSETTO:+0200
TZNAME:CEST
DTSTART:20240331T010000
END:DAYLIGHT
BEGIN:STANDARD
TZOFFSETFROM:+0200
TZOFFSETTO:+0100
TZNAME:CET
DTSTART:20241027T010000
END:STANDARD
BEGIN:DAYLIGHT
TZOFFSETFROM:+0100
TZOFFSETTO:+0200
TZNAME:CEST
DTSTART:20250330T010000
END:DAYLIGHT
BEGIN:STANDARD
TZOFFSETFROM:+0200
TZOFFSETTO:+0100
TZNAME:CET
DTSTART:20251026T010000
END:STANDARD
BEGIN:DAYLIGHT
TZOFFSETFROM:+0100
TZOFFSETTO:+0200
TZNAME:CEST
DTSTART:20260329T010000
END:DAYLIGHT
BEGIN:STANDARD
TZOFFSETFROM:+0200
TZOFFSETTO:+0100
TZNAME:CET
DTSTART:20261025T010000
END:STANDARD
END:VTIMEZONE
BEGIN:VEVENT
DTSTART;TZID=Europe/Madrid:20250110T180000
DTEND;TZID=Europe/Madrid:20250110T190000
DTSTAMP:20260425T145424
CREATED:20241229T162346Z
LAST-MODIFIED:20241229T162425Z
UID:10000021-1736532000-1736535600@eventosguau.es
SUMMARY:TALLER ONLINE GRATUITO: “SOCIALIZACIÓN SEGURA ENTRE PERROS”
DESCRIPTION:🐾 ¿Sientes un nudo en el estómago cada vez que otro perro se acerca al tuyo?\nTu perro no es conflictivo\, pero es tímido o tiene miedo\, y temes que una mala interacción lo pase mal o que el otro perro reaccione mal. \n😟 ¿Te preguntas constantemente cosas como…?\n• “¿Esto es juego o está incomodando a mi perro?”\n• “¿Debo intervenir ahora o mejor dejar que lo resuelvan solos?”\n• “¿Y si se asusta y lo malinterpretan como algo agresivo?” \nEste taller está diseñado para resolver esas dudas y darte herramientas prácticas para garantizar que tu perro disfrute y tú te sientas tranquilo/a. 🌟 \n👀 Lo que aprenderás:\n✔️ Detectar si la interacción entre perros es realmente juego o si puede haber tensión. \n✔️ Identificar las señales de incomodidad antes de que la situación se complique. \n✔️ Saber cómo y cuándo intervenir de forma efectiva para evitar problemas. \n✔️ Estrategias concretas para fomentar una socialización segura y respetuosa. \n🐕 ¿Por qué necesitas este taller?\nPorque no basta con llevar a tu perro al parque; necesitas entender lo que está ocurriendo en esas interacciones para proteger su bienestar. Una socialización adecuada no solo hará que tu perro sea más feliz y confiado\, sino que te permitirá disfrutar más de esos momentos juntos. \n📅 Detalles del taller:\n🗓️ Cuándo: Viernes 10 de enero.\n💻 Dónde: Online\, ¡fácil y desde casa!\n🎟️ Precio: 100% gratuito.\n👩‍⚕️ Impartido por: Ío Almagro\, especialista en Biología Animal\, y Beatriz Aguilar\, adiestradora canina. Enfoque en métodos respetuosos y basados en el bienestar animal.\n📩 Inscríbete: haz clic aquí \n🎉 ¡No te lo pierdas! Ayuda a tu perro a ganar confianza\, disfruta del parque sin preocupaciones\, y aprende a fortalecer el vínculo con tu mejor amigo.\n🔄 Comparte esta invitación con otros tutores de perros. Juntos podemos hacer que los encuentros en el parque sean mejores para todos. 🐾
URL:https://eventosguau.es/event/taller-online-gratuito-socializacion/
CATEGORIES:Eventos
ATTACH;FMTTYPE=image/jpeg:https://eventosguau.es/wp-content/uploads/2024/12/Taller-abierto-socializacion.jpg
END:VEVENT
BEGIN:VEVENT
DTSTART;TZID=Europe/Madrid:20250111T100000
DTEND;TZID=Europe/Madrid:20250111T130000
DTSTAMP:20260425T145424
CREATED:20241229T154137Z
LAST-MODIFIED:20241229T154434Z
UID:10000018-1736589600-1736600400@eventosguau.es
SUMMARY:SENDERISMO CON PERROS EN MADRID | RUTA EN EL VALLE DE LA BARRANCA (NAVACERRADA) 🌲🐾
DESCRIPTION:📅 Fecha: 11 de enero de 2024\n🕒 Hora: De 10:00 a 13:00\n📍 Lugar: Valle de la Barranca (Navacerrada\, Madrid)\n💸 Precio: 15 € \n¿Qué incluye esta experiencia?\nDescubre una de las rutas más bonitas para disfrutar con tu perro en Madrid. Esta actividad es perfecta para conectar con la naturaleza y fortalecer el vínculo con tu mejor amigo mientras exploras el increíble Valle de la Barranca. \n✨Acompañados por adiestradoras y educadoras caninas profesionales que garantizarán que tú y tu perro tengáis una experiencia segura y enriquecedora\n✨ Entorno controlado y seguro para socialización y disfrute.\n✨ Paisajes espectaculares rodeados de pinos y naturaleza. \n¿Por qué participar?\n•🐾 Socialización: Tu perro podrá interactuar con otros amigos peludos en un entorno seguro y controlado.\n🌳 Conexión con la naturaleza: Desconecta del estrés diario\, respira aire fresco y disfruta de paisajes espectaculares.\n🤝🐕 Aventura compartida: Conoce a otros amantes de los perros y pasa un día único lleno de diversión.\n🧘‍♂️✨ Bienestar y relax: Recarga energías\, disfruta de un día diferente y fortalece el vínculo con tu mejor amigo. \nRecomendaciones para disfrutar al máximo:\nRopa cómoda y de abrigo 🧥 para caminar en las condiciones invernales.\nAgua fresca 💧 tanto para ti como para tu perro 🐶.\nBolsas para desechos 💩 para cuidar el entorno natural. \nPunto de Encuentro\nEl punto de encuentro se encuentra en el Valle de la Barranca\, Navacerrada\, un lugar fácil de ubicar y con acceso directo a la ruta. Recibirás la ubicación exacta tras completar tu reserva. \nNormas de Participación\n🚫 No se requiere que el perro esté perfectamente adiestrado; el evento busca fomentar la socialización y mejorar la conexión entre perros y dueños.\n⚠️ No se admitirán perros con problemas de conducta graves que puedan representar un riesgo para otros asistentes.\n📜 Cumple con las normativas de la Comunidad de Madrid en cuanto a identificación\, vacunación y seguro de responsabilidad civil.\n👶 Los menores de edad deben asistir bajo la supervisión de un adulto. \n🔒 Plazas limitadas\nPara garantizar la mejor experiencia para todos\, el grupo será reducido. \n🎟️ ¿Cómo reservar?\nSelecciona el número de entradas y haz clic en adquirir entradas. Tras completar el pago\, recibirás un correo de confirmación 📧. Si necesitas asistencia\, contáctanos por WhatsApp al 687 657 273 📲. \n🐕 ¡No te pierdas esta experiencia única de senderismo con tu perro en Madrid!
URL:https://eventosguau.es/event/ruta-valle-barranca-navacerrada/
LOCATION:Aparcamientos de la Barranca de Navacerrada\, Q234+3Q Navacerrada\, Navacerrada\, Madrid\, 28491\, España
CATEGORIES:Eventos
ATTACH;FMTTYPE=image/jpeg:https://eventosguau.es/wp-content/uploads/2024/12/Senderismo-con-perros-Navacerrada.jpg
END:VEVENT
BEGIN:VEVENT
DTSTART;TZID=Europe/Madrid:20250118T100000
DTEND;TZID=Europe/Madrid:20250118T130000
DTSTAMP:20260425T145424
CREATED:20241229T155818Z
LAST-MODIFIED:20241229T165456Z
UID:10000019-1737194400-1737205200@eventosguau.es
SUMMARY:SENDERISMO CON PERROS EN MADRID | RUTA EN CASA DE CAMPO 🌳🐾
DESCRIPTION:📅 Fecha: 18 de enero de 2024\n🕒 Hora: De 10:00 a 13:00\n📍 Lugar: Casa de Campo (Madrid)\n💸 Precio: 15 € \nDisfruta de una mañana diferente junto a tu perro\nAcompáñanos en esta ruta de senderismo por la emblemática Casa de Campo\, un espacio verde lleno de historia y belleza natural. Una experiencia perfecta para disfrutar de la compañía de tu mejor amigo peludo y socializar con otros amantes de los perros. \nAdemás\, este evento tiene un propósito especial: en honor a San Antón\, destinaremos el 10% de los beneficios a una protectora oficial de animales\, contribuyendo al bienestar de aquellos que más lo necesitan. \n¿Por qué no te lo puedes perder?\n🐾 Socialización positiva: Tu perro tendrá la oportunidad de interactuar con otros canes en un entorno controlado y seguro.\n🌞 Naturaleza en su esplendor: Camina entre los hermosos paisajes de la Casa de Campo y disfruta de un día al aire libre lleno de tranquilidad.\n🐕 Conexión especial: Aprovecha esta experiencia para estrechar el vínculo con tu perro mientras conoces a otras personas apasionadas por sus mascotas.\n✨ Bienestar garantizado: Sal de la rutina\, recarga energías y comparte un momento inolvidable con tu perro. \nRecomendaciones importantes:\n🧥Abrígate y lleva ropa cómoda para adaptarte al clima del invierno.\n💧No olvides agua fresca para ti y tu perro\, ya que estaremos en movimiento durante varias horas.\n💩 Bolsas para desechos para cuidar el entorno y mantener la Casa de Campo limpia. \nPunto de encuentro\nNos reuniremos en un lugar céntrico de la Casa de Campo\, accesible y fácil de localizar. \nNormas de Participación\n🚫 No se requiere que el perro esté perfectamente adiestrado; el evento busca fomentar la socialización y mejorar la conexión entre perros y dueños.\n⚠️ No se admitirán perros con problemas de conducta graves que puedan representar un riesgo para otros asistentes.\n📜 Cumple con las normativas de la Comunidad de Madrid en cuanto a identificación\, vacunación y seguro de responsabilidad civil.\n👶 Los menores de edad deben asistir bajo la supervisión de un adulto. \n🔒 Plazas limitadas\nPara garantizar la mejor experiencia para todos\, el grupo será reducido. \n🎟️ ¿Cómo reservar?\nSelecciona el número de entradas y haz clic en adquirir entradas. Tras completar el pago\, recibirás un correo de confirmación 📧. Si necesitas asistencia\, contáctanos por WhatsApp al 687 657 273 📲. \n🐕 ¡No te lo pierdas! Una experiencia única espera por ti y tu perro en la Casa de Campo.
URL:https://eventosguau.es/event/senderismo-en-casa-de-campo/
LOCATION:Taray del Humedal\, P.º de la Prta del Ángel\, Moncloa - Aravaca\, Madrid\, 28011\, España
CATEGORIES:Eventos
ATTACH;FMTTYPE=image/jpeg:https://eventosguau.es/wp-content/uploads/2024/12/Senderismo-con-perros-casa-campo.jpg
END:VEVENT
BEGIN:VEVENT
DTSTART;TZID=Europe/Madrid:20250125T160000
DTEND;TZID=Europe/Madrid:20250125T190000
DTSTAMP:20260425T145424
CREATED:20241229T161337Z
LAST-MODIFIED:20250124T130331Z
UID:10000020-1737820800-1737831600@eventosguau.es
SUMMARY:ARTE URBANO PET-FRIENDLY | RECORRIDO EN VALLECAS\, MADRID 🎨🐾
DESCRIPTION:📅 Fecha: Sábado 25 de enero 2025\n🕒 Hora: De 16:00 a 19:00\n📍 Lugar: Vallecas\, Madrid\n🚶‍♂️ Distancia: 7 km (volveremos al punto de inicio para recoger coches en el parking gratuito de inicio)\n💸 Precio: 15 € \nDescubre el arte urbano de Vallecas en compañía de tu perro\nSi eres amante del arte urbano y buscas planes diferentes para disfrutar con tu perro\, esta experiencia es para ti. 🐾🎨 \nTe invitamos a una ruta pet-friendly por Vallecas\, diseñada para que tú y tu peludo disfrutéis juntos mientras descubrís algunos de los graffitis más impresionantes de la zona. \n¿Qué hace especial esta ruta?\n\nConexión y disfrute urbano: Pasearemos por parques y zonas verdes que harán la experiencia más agradable tanto para ti como para tu perro.\nAprendizaje en movimiento: Descubrirás cómo manejar la correa en entornos urbanos\, caminar por las aceras con seguridad y cruzarte con tranquilidad con otros perros y personas.\nSocialización: Una oportunidad única para que tu perro se relacione con otros peludos mientras tú compartes la experiencia con otros tutores.\n\nEs mucho más que un paseo: es un espacio para relajarse\, aprender\, y fortalecer el vínculo con tu perro en un entorno vibrante y lleno de arte. \n¿Por qué participar?\n🎨 Arte y cultura: Conoce las historias detrás de los grafitis más impactantes de Vallecas.\n🐾 Para ti y tu perro: Disfruta de un paseo donde tu perro también es bienvenido.\n🐕‍🦺 Supervisión profesional: Garantizamos una experiencia segura y agradable para todos los asistentes.\n🌟 Plan diferente: Una tarde al aire libre que mezcla arte\, naturaleza y convivencia. \nRecomendaciones para disfrutar al máximo:\n👟 Lleva calzado cómodo y ropa adecuada para disfrutar del recorrido.\n💧 Agua fresca para ti y tu perro.\n🐕 Una correa segura para mantener el control durante el paseo. \nPunto de Encuentro\nAbajo tienes la localización exacta. El acceso al punto de encuentro puede hacerse tanto en vehículo particular como en transporte público (cercanías y metro). La ruta termina próximo a otras paradas de cercanías y metro. Las personas que hayan venido en coche volverán junto con la organización al punto de inicio. El grupo de WhatsApp estará habilitado para garantizar un inicio organizado y puntual. Si tienes dudas o no estás en el grupo\, contáctanos por WhatsApp en el número que facilitamos más abajo y te añadiremos. \nNormas de Participación (solo si vienes con perro):\n🚫 No se requiere que el perro esté perfectamente adiestrado; el evento busca fomentar la socialización y la conexión entre perros y dueños.\n⚠️ No se admitirán perros con problemas de conducta graves que puedan representar un riesgo para otros asistentes.\n📜 Cumple con las normativas de la Comunidad de Madrid en cuanto a identificación\, vacunación y seguro de responsabilidad civil.\n👶 Los menores de edad deben asistir bajo la supervisión de un adulto. \n🔒 Plazas limitadas\nEl grupo será reducido para garantizar una experiencia cómoda y agradable para todos. \n🎟️ ¿Cómo reservar?\nSelecciona el número de entradas y haz clic en adquirir entradas. Tras completar el pago\, recibirás un correo de confirmación 📧. Si necesitas asistencia o tienes cualquier duda\, contáctanos por WhatsApp al 687 657 273 📲. \n🐾 ¡No te pierdas este recorrido de arte urbano con tu perro en Vallecas y haz algo original!
URL:https://eventosguau.es/event/arte-urbano-pet-friendly-en-vallecas/
LOCATION:Parking la feria de los martes\, C. de Sierra Gorda\, 5\, Vallecas\, Madrid\, 28031\, España
CATEGORIES:Eventos
ATTACH;FMTTYPE=image/jpeg:https://eventosguau.es/wp-content/uploads/2024/12/Arte-urbano-2.jpg
END:VEVENT
END:VCALENDAR