BEGIN:VCALENDAR
VERSION:2.0
PRODID:-//Eventos Guau - ECPv6.15.17.1//NONSGML v1.0//EN
CALSCALE:GREGORIAN
METHOD:PUBLISH
X-ORIGINAL-URL:https://eventosguau.es
X-WR-CALDESC:Eventos para Eventos Guau
REFRESH-INTERVAL;VALUE=DURATION:PT1H
X-Robots-Tag:noindex
X-PUBLISHED-TTL:PT1H
BEGIN:VTIMEZONE
TZID:Europe/Madrid
BEGIN:DAYLIGHT
TZOFFSETFROM:+0100
TZOFFSETTO:+0200
TZNAME:CEST
DTSTART:20250330T010000
END:DAYLIGHT
BEGIN:STANDARD
TZOFFSETFROM:+0200
TZOFFSETTO:+0100
TZNAME:CET
DTSTART:20251026T010000
END:STANDARD
BEGIN:DAYLIGHT
TZOFFSETFROM:+0100
TZOFFSETTO:+0200
TZNAME:CEST
DTSTART:20260329T010000
END:DAYLIGHT
BEGIN:STANDARD
TZOFFSETFROM:+0200
TZOFFSETTO:+0100
TZNAME:CET
DTSTART:20261025T010000
END:STANDARD
BEGIN:DAYLIGHT
TZOFFSETFROM:+0100
TZOFFSETTO:+0200
TZNAME:CEST
DTSTART:20270328T010000
END:DAYLIGHT
BEGIN:STANDARD
TZOFFSETFROM:+0200
TZOFFSETTO:+0100
TZNAME:CET
DTSTART:20271031T010000
END:STANDARD
END:VTIMEZONE
BEGIN:VEVENT
DTSTART;TZID=Europe/Madrid:20260502T100000
DTEND;TZID=Europe/Madrid:20260502T123000
DTSTAMP:20260420T163615
CREATED:20260403T135907Z
LAST-MODIFIED:20260418T105452Z
UID:10000104-1777716000-1777725000@eventosguau.es
SUMMARY:CLUEDOG en Alpedrete: Misterio en la Naturaleza 🕵️‍♀️🐾
DESCRIPTION:Actividad interactiva con perros en la Sierra de Madrid \n📅 Fecha: Sábado 2 de mayo de 2026\n🕒 Hora: De 10:00 a 12:30\n📍 Lugar: Dehesa Boyal de Alpedrete.\n💸 Precio: 15 €/persona \n🌿 ¿Te imaginas resolver un misterio… con tu perro? \nEn Eventos GUAU te proponemos un Cluedog al aire libre en un entorno natural privilegiado\, donde tu perro será clave para resolver el caso. Una experiencia diferente en la que tendréis que investigar\, colaborar y conectar. \nNo es solo un juego… es una aventura compartida. \n🌟 ¿Por qué unirte?\n🐕‍🦺 Trabajo en equipo: Tu perro y tú como un auténtico equipo\n🐾 Estimulación mental y olfativa: Uso del olfato e interpretación de pistas\n🌿 Entorno natural: Naturaleza real para una experiencia más completa\n🤝 Comunidad: Comparte la experiencia con personas afines \n🧭 Recomendaciones\n👟 Calzado de senderismo o deportivo\n💧 Agua suficiente\n🧴 Protección solar (ya empieza el calor en mayo por la mañana)\n🦺 Correa larga \n✨ No te contaremos la historia…\n✨ Ni el misterio…\n✨ Ni lo que ocurrirá… \nEso lo descubrirás allí 😏 \n💛 Vas a reírte\, pensar\, compartir y disfrutar de tu perro de verdad.
URL:https://eventosguau.es/event/cluedog-en-alpedrete-misterio-en-la-naturaleza-%f0%9f%95%b5%ef%b8%8f%e2%99%80%ef%b8%8f%f0%9f%90%be/
LOCATION:Entrada Dehesa Boyal\, Cantera del 600\, C. del Río Guadarrama\, 9\,\, Alpedrete\, Madrid\, 28430\, España
CATEGORIES:Eventos
ATTACH;FMTTYPE=image/jpeg:https://eventosguau.es/wp-content/uploads/2026/04/CLUEDOG.jpg
END:VEVENT
END:VCALENDAR