BEGIN:VCALENDAR
VERSION:2.0
PRODID:-//Eventos Guau - ECPv6.15.17.1//NONSGML v1.0//EN
CALSCALE:GREGORIAN
METHOD:PUBLISH
X-ORIGINAL-URL:https://eventosguau.es
X-WR-CALDESC:Eventos para Eventos Guau
REFRESH-INTERVAL;VALUE=DURATION:PT1H
X-Robots-Tag:noindex
X-PUBLISHED-TTL:PT1H
BEGIN:VTIMEZONE
TZID:Europe/Madrid
BEGIN:DAYLIGHT
TZOFFSETFROM:+0100
TZOFFSETTO:+0200
TZNAME:CEST
DTSTART:20240331T010000
END:DAYLIGHT
BEGIN:STANDARD
TZOFFSETFROM:+0200
TZOFFSETTO:+0100
TZNAME:CET
DTSTART:20241027T010000
END:STANDARD
BEGIN:DAYLIGHT
TZOFFSETFROM:+0100
TZOFFSETTO:+0200
TZNAME:CEST
DTSTART:20250330T010000
END:DAYLIGHT
BEGIN:STANDARD
TZOFFSETFROM:+0200
TZOFFSETTO:+0100
TZNAME:CET
DTSTART:20251026T010000
END:STANDARD
BEGIN:DAYLIGHT
TZOFFSETFROM:+0100
TZOFFSETTO:+0200
TZNAME:CEST
DTSTART:20260329T010000
END:DAYLIGHT
BEGIN:STANDARD
TZOFFSETFROM:+0200
TZOFFSETTO:+0100
TZNAME:CET
DTSTART:20261025T010000
END:STANDARD
END:VTIMEZONE
BEGIN:VEVENT
DTSTART;TZID=Europe/Madrid:20250405T100000
DTEND;TZID=Europe/Madrid:20250405T130000
DTSTAMP:20260425T145712
CREATED:20250324T164743Z
LAST-MODIFIED:20250403T140922Z
UID:10000043-1743847200-1743858000@eventosguau.es
SUMMARY:SENDERISMO CON PERROS EN MADRID | DEHESA BOYAL Y CANTERAS DE ALPEDRETE
DESCRIPTION:📅 Fecha: Sábado\, 5 de abril de 2025\n🕒 Hora: De 10h a 13h\n📍 Lugar: Dehesa Boyal y Canteras de Alpedrete\n🚶‍♂️ Distancia: 4 km\n💸 Precio: 15 € \n¿Qué te espera en esta ruta de senderismo?\n¡Explora la naturaleza con tu perro y disfruta de una experiencia inolvidable!\nAcompáñanos en esta ruta de senderismo de 4 km en Alpedrete\, ideal para amantes de los perros y la montaña. Descubre el encanto de la Dehesa Boyal y las históricas canteras mientras compartes un día lleno de conexión\, ejercicio y aire fresco junto a tu perro. \n🐾 Beneficios de participar:\n🐾 Socialización para tu perro: Perfecto para que los perros interactúen en un entorno seguro.\n🌄 Naturaleza deslumbrante: Disfruta del entorno único de la Dehesa Boyal y las antiguas canteras.\n🐕 Vínculo especial: Comparte un momento único con tu perro y otros amantes de las mascotas.\n✨ Diversión garantizada: Una actividad diferente para romper la rutina. \nRecomendaciones importantes:\n🧥 Lleva ropa cómoda para senderismo.\n💧 Asegúrate de llevar agua fresca para ti y tu perro.\n💩 No olvides las bolsas para recoger los desechos y contribuir al cuidado del entorno. \nPunto de encuentro:\n📌En la entrada principal de la Dehesa Boyal de Alpedrete. \nNormas de participación:\n🚫 No se requiere que tu perro esté perfectamente adiestrado. Este evento busca fomentar la socialización y la conexión entre humanos y perros.\n⚠️ No se admitirán perros con problemas de conducta graves que representen un riesgo para los asistentes o ellos mismos.\n📜 Cumple las normativas de la Comunidad de Madrid (identificación\, vacunación y seguro de responsabilidad civil).\n👶 Los menores de edad pueden asistir acompañados de un adulto sin necesidad de entrada. \n🎟️ ¿Cómo reservar?\nSelecciona el número de entradas y haz clic en «adquirir entradas». Tras completar el pago\, recibirás un correo de confirmación 📧.\nSi necesitas asistencia\, contáctanos por WhatsApp al 687 657 273 📲. \n🔒 Plazas limitadas: Para garantizar la mejor experiencia\, el grupo será reducido. \n✨ ¡Haz de esta experiencia algo especial! Únete a nuestra ruta y disfruta de un día inolvidable con tu perro. 🐾
URL:https://eventosguau.es/event/canteras-de-alpedrete/
LOCATION:Entrada Dehesa Boyal\, Cantera del 600\, C. del Río Guadarrama\, 9\,\, Alpedrete\, Madrid\, 28430\, España
CATEGORIES:Eventos
ATTACH;FMTTYPE=image/jpeg:https://eventosguau.es/wp-content/uploads/2025/03/WhatsApp-Image-2025-03-30-at-17.23.15.jpeg
END:VEVENT
BEGIN:VEVENT
DTSTART;TZID=Europe/Madrid:20250412T180000
DTEND;TZID=Europe/Madrid:20250412T180000
DTSTAMP:20260425T145712
CREATED:20250323T184745Z
LAST-MODIFIED:20250326T202414Z
UID:10000042-1744480800-1744480800@eventosguau.es
SUMMARY:SENDERISMO CON PERROS EN MADRID | RUTA AL ATARDECER Y BAJO LA LUNA LLENA EN EL PARDO 🌕
DESCRIPTION:📅 Fecha: Sábado 12 de abril de 2025\n🕒 Hora: De 18:00 a 21:00\n📍 Lugar: El Pardo. Ruta circular fácil 7\,5 km.\n💸 Precio: 15 € \n¡Vive una experiencia mágica junto a tu perro bajo la luz de la luna llena! \nAcompáñanos en esta ruta de senderismo al atardecer en El Pardo\, ideal para disfrutar de la naturaleza en un ambiente único. Comparte un momento especial con tu perro y otros amantes de las mascotas mientras caminas bajo la luna llena. \n¿Por qué no te lo puedes perder?\n🌕 Ambiente mágico: Disfruta de una ruta nocturna bajo la luna llena.\n🐾 Socialización para tu perro: Un espacio perfecto para que los perros interactúen en un entorno seguro.\n🌳 Naturaleza espectacular: Descubre la belleza de El Pardo al atardecer.\n🐕 Vínculo especial: Comparte un momento único con tu perro y otros amantes de las mascotas.\n💋 Celebra el Día del Beso: ¡El día siguiente es el Día Internacional del Beso! Aprovecha esta experiencia para demostrarle a tu perro cuánto lo quieres con un beso especial bajo la luna llena. \nRecomendaciones:\n🧥 Lleva ropa cómoda y adecuada para el clima.\n💧 No olvides agua para ti y tu perro.\n💡 Trae una linterna o frontal para mayor seguridad.\n💩 Bolsas para recoger los desechos de tu perro. \nPunto de encuentro:\nParking Senda de Peñarrubia (Frente al restaurante Lar de Domingo) \nNormas de participación:\n🚫 No es necesario que tu perro esté perfectamente adiestrado; este evento promueve la socialización y la conexión.\n⚠️ No se admitirán perros con problemas de conducta graves.\n📜 Cumple con las normativas de la Comunidad de Madrid (vacunación\, microchip y seguro de responsabilidad civil).\n👶 Los menores deben asistir acompañados de un adulto. \n🔒 Plazas limitadas\n🎟️ ¿Cómo inscribirse?\nSelecciona tu entrada y haz clic en “Reservar”. Recibirás un correo de confirmación tras el pago. Si necesitas ayuda\, contáctanos por WhatsApp al 687 657 273 📲. \n🐕 ¡Te esperamos para una noche inolvidable con tu perro en El Pardo!
URL:https://eventosguau.es/event/senderismo-con-perros-en-madrid-ruta-al-atardecer-y-bajo-la-luna-llena-en-el-pardo-2/
LOCATION:Monte del Pardo\, Parking Senda Peñarrubia\, Madrid\, Madrid\, 28048\, España
CATEGORIES:Eventos
ATTACH;FMTTYPE=image/jpeg:https://eventosguau.es/wp-content/uploads/2025/03/WhatsApp-Image-2025-03-25-at-15.46.29.jpeg
END:VEVENT
BEGIN:VEVENT
DTSTART;TZID=Europe/Madrid:20250417T100000
DTEND;TZID=Europe/Madrid:20250417T130000
DTSTAMP:20260425T145712
CREATED:20250324T170603Z
LAST-MODIFIED:20250326T200830Z
UID:10000045-1744884000-1744894800@eventosguau.es
SUMMARY:GYMKANA CANINA EN EL PARQUE JUAN CARLOS I 🐾🎉
DESCRIPTION:¡Disfruta de una Semana Santa diferente y divertida junto a tu perro! \n📅 Fecha: Jueves\, 17 de abril de 2025\n🕒 Hora: De 10:00 a 13:00\n📍 Lugar: Parque Juan Carlos I (Madrid)\n💸 Precio: 15 € \nDisfruta de una mañana diferente junto a tu perro\nAcompáñanos en esta emocionante gymkana canina en el Parque Juan Carlos I\, un espacio verde ideal para disfrutar de actividades al aire libre con tu mejor amigo peludo. Una experiencia perfecta para fortalecer vuestro vínculo\, divertirte y socializar con otros amantes de los perros. \n¿Por qué no te lo puedes perder?\n🐾 Diversión asegurada: Participa en pruebas de habilidad\, juegos de olfato y retos diseñados para disfrutar con tu perro.\n🌞 Naturaleza y entretenimiento: Disfruta de un día al aire libre en uno de los parques más emblemáticos de Madrid.\n🐕 Conexión especial: Aprovecha esta experiencia para estrechar el vínculo con tu perro mientras conoces a otras personas apasionadas por sus mascotas.\n✨ Premios y sorpresas: Habrá premios para los ganadores de las pruebas. \nRecomendaciones importantes:\n🧥 Lleva ropa cómoda y adecuada para moverte con facilidad.\n💧 No olvides agua fresca para ti y tu perro\, ya que estaremos en movimiento durante varias horas.\n💩 Bolsas para desechos para cuidar el entorno y mantener el parque limpio.\n🎾 Trae el juguete favorito de tu perro (opcional). \nPunto de encuentro\nNos reuniremos en el Parque Juan Carlos I\, junto al alquiler de bicicletas del parking principal. \nNormas de participación\n🚫 No se requiere que el perro esté perfectamente adiestrado; el evento busca fomentar la socialización y mejorar la conexión entre perros y dueños.\n⚠️ No se admitirán perros con problemas de conducta graves que puedan representar un riesgo para otros asistentes.\n📜 Cumple con las normativas de la Comunidad de Madrid en cuanto a identificación\, vacunación y seguro de responsabilidad civil.\n👶 Los menores de edad deben asistir bajo la supervisión de un adulto. \n🔒 Plazas limitadas \nPara garantizar la mejor experiencia para todos\, el grupo será reducido. \n🎟️ ¿Cómo reservar? \nSelecciona el número de entradas y haz clic en «adquirir entradas». Tras completar el pago\, recibirás un correo de confirmación 📧. Si necesitas asistencia\, contáctanos por WhatsApp al 687 657 273 📲. \n🐕 ¡No te lo pierdas! Una experiencia única te espera a ti y a tu perro en el Parque Juan Carlos I. ¡Te esperamos!
URL:https://eventosguau.es/event/gymkana-canina-en-el-parque-juan-carlos-i-%f0%9f%90%be%f0%9f%8e%89/
LOCATION:Parque Juan Carlos I\, [P] PMR Plaza Discapacitados\, M-12\,\, Barajas\, Madrid\, 28042\, España
CATEGORIES:Eventos
ATTACH;FMTTYPE=image/jpeg:https://eventosguau.es/wp-content/uploads/2025/03/WhatsApp-Image-2025-03-25-at-15.46.29-2.jpeg
END:VEVENT
BEGIN:VEVENT
DTSTART;TZID=Europe/Madrid:20250419T100000
DTEND;TZID=Europe/Madrid:20250419T130000
DTSTAMP:20260425T145712
CREATED:20250324T165520Z
LAST-MODIFIED:20250326T200811Z
UID:10000044-1745056800-1745067600@eventosguau.es
SUMMARY:SENDERISMO CON PERROS: SENDA ECOLÓGICA DE CANENCIA
DESCRIPTION:Vente con nosotros para disfrutar de una maravillosa caminata junto a tu perro en un entorno natural increíble en la Sierra de Madrid. \nFecha: Sábado\, 19 de abril de 2025\nHora: 10:00 – 13:00\nLugar: Senda Ecológica de Canencia\, Sierra Norte de Madrid\nPunto de Encuentro: Parking de Canencia\nContribución: 15 euros/persona \nLo que te espera:\n\nRuta Circular Guiada: Disfrutaremos de un recorrido de 6 kilómetros por la Senda Ecológica de Canencia\, un entorno lleno de naturaleza y paisajes impresionantes. Es una ruta sencilla\, ideal para caminar en compañía de tu perro.\nCompartir Coches: Para facilitar el acceso al punto de encuentro\, puedes compartir coche con otros asistentes. ¡Anímate a proponerlo al grupo!\nSocialización Canina: Durante todo el recorrido\, contarás con el apoyo de profesionales del comportamiento canino\, quienes estarán disponibles para resolver tus dudas y guiarte en la mejor manera de disfrutar la caminata con tu perro.\n\nMaterial que necesitas traer:\n🥾 Calzado de senderismo y ropa adecuada\n🐶 Correa\, arnés o collar en buen estado\n💧 Agua para ti y tu perro\n🍀 Bolsitas para recoger los desechos de tu perro\n🍎 Alguna pieza de fruta\, bocadillo o frutos secos para ti \nNormas de participación:\n\nPuntualidad: Se ruega llegar a tiempo para comenzar a las 10:00.\nResponsabilidad: Cada persona es responsable de su perro\, asegurándose de que su cartilla sanitaria y protección antiparasitaria estén al día.\nSocialización Segura: No queremos perros perfectos\, pero en ningún caso se aceptarán perros con problemas graves de socialización que puedan suponer un riesgo para ellos mismos o para terceros.\n\n¡Me apunto! Reserva tu plaza de forma fácil:\n🎟️ ¿Cómo inscribirse?\nSelecciona tu entrada y haz clic en “Reservar”. Recibirás un correo de confirmación tras el pago. Si necesitas ayuda\, contáctanos por WhatsApp al 687 657 273 📲. \nLas plazas son limitadas\, así que reserva lo antes posible.\nCualquier duda\, estamos a tu disposición en el mismo número 687 657 273. \n¡No te lo pienses más y vente con nosotras a disfrutar de la naturaleza con tu perro y hacer nuevos amigos! ¡Te esperamos!
URL:https://eventosguau.es/event/senderismo-con-perros-senda-ecologica-de-canencia-2/
LOCATION:Parking de Canencia\, Aparcamiento Canencia\, Cantarranas\, Canencia\, Madrid\, 28743\, España
CATEGORIES:Eventos
ATTACH;FMTTYPE=image/jpeg:https://eventosguau.es/wp-content/uploads/2025/03/WhatsApp-Image-2025-03-25-at-15.46.29-1.jpeg
END:VEVENT
BEGIN:VEVENT
DTSTART;TZID=Europe/Madrid:20250426T100000
DTEND;TZID=Europe/Madrid:20250426T130000
DTSTAMP:20260425T145712
CREATED:20250324T171137Z
LAST-MODIFIED:20250326T200740Z
UID:10000046-1745661600-1745672400@eventosguau.es
SUMMARY:PASEO DE SOCIALIZACIÓN CANINA EN COLMENAREJO 🐾🌲
DESCRIPTION:¡Disfruta de una mañana diferente junto a tu perro en plena naturaleza! \n📅 Fecha: Sábado\, 26 de abril de 2025\n🕒 Hora: De 10:00 a 13:00\n📍 Lugar: Colmenarejo\, Sierra de Guadarrama\n💸 Precio: 15 € \nDisfruta\, aprende y conecta con otros amantes de los perros\nAcompáñanos en este paseo de socialización en Colmenarejo\, un entorno natural perfecto para disfrutar de la compañía de tu mejor amigo peludo y conocer a otros amantes de los perros. \n¿Por qué no te lo puedes perder?\n🐾 Socialización positiva: Tu perro tendrá la oportunidad de interactuar con otros canes en un entorno controlado y seguro.\n🌞 Naturaleza en su esplendor: Camina entre los hermosos paisajes de la Sierra de Guadarrama y disfruta de un día al aire libre lleno de tranquilidad.\n🐕 Conexión especial: Aprovecha esta experiencia para estrechar el vínculo con tu perro mientras conoces a otras personas apasionadas por sus mascotas.\n✨ Aprendizaje garantizado: Dos profesionales en educación canina te acompañarán durante la ruta para resolver tus dudas y ayudarte a mejorar la relación con tu perro. \nRecomendaciones importantes:\n🧥 Lleva ropa cómoda y calzado adecuado para senderismo.\n💧 No olvides agua fresca para ti y tu perro\, ya que estaremos en movimiento durante varias horas.\n💩 Bolsas para desechos para cuidar el entorno y mantener la zona limpia.\n🎾 Trae el juguete favorito de tu perro (opcional). \nPunto de encuentro\nNos reuniremos en el aparcamiento de Colmenarejo\, al final del camino de tierra. \nNormas de participación\n🚫 No se requiere que el perro esté perfectamente adiestrado; el evento busca fomentar la socialización y mejorar la conexión entre perros y dueños.\n⚠️ No se admitirán perros con problemas de conducta graves que puedan representar un riesgo para otros asistentes.\n📜 Cumple con las normativas de la Comunidad de Madrid en cuanto a identificación\, vacunación y seguro de responsabilidad civil.\n👶 Los menores de edad deben asistir bajo la supervisión de un adulto. \n🔒 Plazas limitadas \nPara garantizar la mejor experiencia para todos\, el grupo será reducido. \n🎟️ ¿Cómo reservar? \nSelecciona el número de entradas y haz clic en «adquirir entradas». Tras completar el pago\, recibirás un correo de confirmación 📧. Si necesitas asistencia\, contáctanos por WhatsApp al 687 657 273 📲. \n🐕 ¡No te lo pierdas! Una experiencia única te espera a ti y a tu perro en Colmenarejo. ¡Te esperamos! 🐾🌟
URL:https://eventosguau.es/event/5702/
LOCATION:Colmenarejo\, Ermita De Nuestra Señora De La Soledad\, Colmenarejo\, MADRID\, 28270\, España
CATEGORIES:Eventos
ATTACH;FMTTYPE=image/jpeg:https://eventosguau.es/wp-content/uploads/2025/03/WhatsApp-Image-2025-03-25-at-15.46.16.jpeg
END:VEVENT
END:VCALENDAR